FILENAME: 36114C53
QUADRANGLE_NAME: BITTER SPRING
QUADRANT: SE
WEST_LONGITUDE: -114 33 45.00000
EAST_LONGITUDE: -114 30 0.00000
NORTH_LATITUDE: 36 18 45.00000
SOUTH_LATITUDE: 36 15 0.00000
PRODUCTION_DATE: 1996 1 29
RASTER_ORDER: LEFT_RIGHT/TOP_BOTTOM
BAND_ORGANIZATION: SINGLE FILE
BAND_CONTENT: BLACK&WHITE
BAND_CONTENT: UNDEFINED
BAND_CONTENT: UNDEFINED
BITS_PER_PIXEL: 8
SAMPLES_AND_LINES: 6464 7685
HORIZONTAL_DATUM: NAD83
HORIZONTAL_COORDINATE_SYSTEM: UTM
COORDINATE_ZONE: 11
HORIZONTAL_UNITS: METERS
HORIZONTAL_RESOLUTION: 1.00000
SECONDARY_HORIZONTAL_DATUM: NAD27
XY_ORIGIN: 718462.00000 4021812.00000
SECONDARY_XY_ORIGIN: 718540.44200 4021615.07800
NATION: US
STATE: NV
NW_QUAD_CORNER_XY: 718835.97300 4021367.72400
NE_QUAD_CORNER_XY: 724448.21100 4021511.01600
SE_QUAD_CORNERY_XY: 724627.37300 4014576.53200
SW_QUAD_CORNER_XY: 719010.64900 4014433.33800
SECONDARY_NW_QUAD_XY: 718841.21300 4021166.44800
SECONDARY_NE_QUAD_XY: 724453.58500 4021309.74400
SECONDARY_SE_QUAD_XY: 724632.74400 4014375.43100
SECONDARY_SW_QUAD_XY: 719015.88500 4014232.23400
RMSE_XY: 2.50000
IMAGE_SOURCE: BLACK AND WHITE FILM
SOURCE_IMAGE_ID: NAPP 7257 012
SOURCE_IMAGE_DATE: 1994 6 10
SOURCE_DEM_DATE: 1996 1 29
AGENCY: WESTERN MAPPING CENTER (WMC)
PRODUCER: WMC
PRODUCTION_SYSTEM: DV2.6.3 10/9OV2.4 5/95
COMPRESSION: UNDEFINED
STANDARD_VERSION: 1996 12
METADATA_DATE: 1997 7 10
DATA_FILE_SIZE: 49682304
BYTE_COUNT: 6464
