FILENAME: 36114B52
QUADRANGLE_NAME: BOULDER CANYON
QUADRANT: NE
WEST_LONGITUDE: -114 33 45.00000
EAST_LONGITUDE: -114 30 0.00000
NORTH_LATITUDE: 36 15 0.00000
SOUTH_LATITUDE: 36 11 15.00000
PRODUCTION_DATE: 1996 2 1
RASTER_ORDER: LEFT_RIGHT/TOP_BOTTOM
BAND_ORGANIZATION: SINGLE FILE
BAND_CONTENT: BLACK&WHITE
BAND_CONTENT: UNDEFINED
BAND_CONTENT: UNDEFINED
BITS_PER_PIXEL: 8
SAMPLES_AND_LINES: 6468 7685
HORIZONTAL_DATUM: NAD83
HORIZONTAL_COORDINATE_SYSTEM: UTM
COORDINATE_ZONE: 11
HORIZONTAL_UNITS: METERS
HORIZONTAL_RESOLUTION: 1.00000
SECONDARY_HORIZONTAL_DATUM: NAD27
XY_ORIGIN: 718637.00000 4014878.00000
SECONDARY_XY_ORIGIN: 718715.37700 4014681.10200
NATION: US
STATE: NV
NW_QUAD_CORNER_XY: 719010.64900 4014433.33800
NE_QUAD_CORNER_XY: 724627.37300 4014576.53200
SE_QUAD_CORNERY_XY: 724806.26800 4007642.10700
SW_QUAD_CORNER_XY: 719185.06300 4007499.01200
SECONDARY_NW_QUAD_XY: 719015.88500 4014232.23400
SECONDARY_NE_QUAD_XY: 724632.74400 4014375.43100
SECONDARY_SE_QUAD_XY: 724811.63400 4007441.17800
SECONDARY_SW_QUAD_XY: 719190.29500 4007298.08000
RMSE_XY: 2.90000
IMAGE_SOURCE: BLACK AND WHITE FILM
SOURCE_IMAGE_ID: NAPP 5305 094
SOURCE_IMAGE_DATE: 1992 8 26
SOURCE_DEM_DATE: 1996 2 1
AGENCY: WESTERN MAPPING CENTER (WMC)
PRODUCER: WMC
PRODUCTION_SYSTEM: DV2.6.3 10/9OV2.4 5/95
COMPRESSION: UNDEFINED
STANDARD_VERSION: 1996 12
METADATA_DATE: 1997 7 10
DATA_FILE_SIZE: 49713048
BYTE_COUNT: 6468
