FILENAME: 36114B51
QUADRANGLE_NAME: BOULDER CANYON
QUADRANT: NW
WEST_LONGITUDE: -114 37 30.00000
EAST_LONGITUDE: -114 33 45.00000
NORTH_LATITUDE: 36 15 0.00000
SOUTH_LATITUDE: 36 11 15.00000
PRODUCTION_DATE: 1996 2 1
RASTER_ORDER: LEFT_RIGHT/TOP_BOTTOM
BAND_ORGANIZATION: SINGLE FILE
BAND_CONTENT: BLACK&WHITE
BAND_CONTENT: UNDEFINED
BAND_CONTENT: UNDEFINED
BITS_PER_PIXEL: 8
SAMPLES_AND_LINES: 6464 7681
HORIZONTAL_DATUM: NAD83
HORIZONTAL_COORDINATE_SYSTEM: UTM
COORDINATE_ZONE: 11
HORIZONTAL_UNITS: METERS
HORIZONTAL_RESOLUTION: 1.00000
SECONDARY_HORIZONTAL_DATUM: NAD27
XY_ORIGIN: 713020.00000 4014734.00000
SECONDARY_XY_ORIGIN: 713098.47700 4014537.15400
NATION: US
STATE: NV
NW_QUAD_CORNER_XY: 713394.00300 4014293.77600
NE_QUAD_CORNER_XY: 719010.64900 4014433.33800
SE_QUAD_CORNERY_XY: 719185.06300 4007499.01200
SW_QUAD_CORNER_XY: 713563.93800 4007359.54600
SECONDARY_NW_QUAD_XY: 713399.10500 4014092.66900
SECONDARY_NE_QUAD_XY: 719015.88500 4014232.23400
SECONDARY_SE_QUAD_XY: 719190.29500 4007298.08000
SECONDARY_SW_QUAD_XY: 713569.03500 4007158.61100
RMSE_XY: 2.60000
IMAGE_SOURCE: BLACK AND WHITE FILM
SOURCE_IMAGE_ID: NAPP 7255 121
SOURCE_IMAGE_DATE: 1994 6 9
SOURCE_DEM_DATE: 1996 2 1
AGENCY: WESTERN MAPPING CENTER (WMC)
PRODUCER: WMC
PRODUCTION_SYSTEM: DV2.6.3 10/9OV2.4 5/95
COMPRESSION: UNDEFINED
STANDARD_VERSION: 1996 12
METADATA_DATE: 1997 7 10
DATA_FILE_SIZE: 49656448
BYTE_COUNT: 6464
