FILENAME: 36114B53
QUADRANGLE_NAME: BOULDER CANYON
QUADRANT: SE
WEST_LONGITUDE: -114 33 45.00000
EAST_LONGITUDE: -114 30 0.00000
NORTH_LATITUDE: 36 11 15.00000
SOUTH_LATITUDE: 36 7 30.00000
PRODUCTION_DATE: 1996 2 1
RASTER_ORDER: LEFT_RIGHT/TOP_BOTTOM
BAND_ORGANIZATION: SINGLE FILE
BAND_CONTENT: BLACK&WHITE
BAND_CONTENT: UNDEFINED
BAND_CONTENT: UNDEFINED
BITS_PER_PIXEL: 8
SAMPLES_AND_LINES: 6476 7684
HORIZONTAL_DATUM: NAD83
HORIZONTAL_COORDINATE_SYSTEM: UTM
COORDINATE_ZONE: 11
HORIZONTAL_UNITS: METERS
HORIZONTAL_RESOLUTION: 1.00000
SECONDARY_HORIZONTAL_DATUM: NAD27
XY_ORIGIN: 718811.00000 4007943.00000
SECONDARY_XY_ORIGIN: 718889.32200 4007746.14700
NATION: US
STATE: NV
STATE: AZ
NW_QUAD_CORNER_XY: 719185.06300 4007499.01200
NE_QUAD_CORNER_XY: 724806.26800 4007642.10700
SE_QUAD_CORNERY_XY: 724984.89500 4000707.74000
SW_QUAD_CORNER_XY: 719359.21600 4000564.74500
SECONDARY_NW_QUAD_XY: 719190.29500 4007298.08000
SECONDARY_NE_QUAD_XY: 724811.63400 4007441.17800
SECONDARY_SE_QUAD_XY: 724990.25600 4000506.98500
SECONDARY_SW_QUAD_XY: 719364.44300 4000363.98700
RMSE_XY: 4.40000
IMAGE_SOURCE: BLACK AND WHITE FILM
SOURCE_IMAGE_ID: NAPP 5305 092
SOURCE_IMAGE_DATE: 1992 8 26
SOURCE_DEM_DATE: 1996 2 1
AGENCY: WESTERN MAPPING CENTER (WMC)
PRODUCER: WMC
PRODUCTION_SYSTEM: DV2.6.3 10/9OV2.4 5/95
COMPRESSION: UNDEFINED
STANDARD_VERSION: 1996 12
METADATA_DATE: 1997 7 10
DATA_FILE_SIZE: 49768060
BYTE_COUNT: 6476
