FILENAME: 36114B54
QUADRANGLE_NAME: BOULDER CANYON
QUADRANT: SW
WEST_LONGITUDE: -114 37 30.00000
EAST_LONGITUDE: -114 33 45.00000
NORTH_LATITUDE: 36 11 15.00000
SOUTH_LATITUDE: 36 7 30.00000
PRODUCTION_DATE: 1996 2 1
RASTER_ORDER: LEFT_RIGHT/TOP_BOTTOM
BAND_ORGANIZATION: SINGLE FILE
BAND_CONTENT: BLACK&WHITE
BAND_CONTENT: UNDEFINED
BAND_CONTENT: UNDEFINED
BITS_PER_PIXEL: 8
SAMPLES_AND_LINES: 6468 7681
HORIZONTAL_DATUM: NAD83
HORIZONTAL_COORDINATE_SYSTEM: UTM
COORDINATE_ZONE: 11
HORIZONTAL_UNITS: METERS
HORIZONTAL_RESOLUTION: 1.00000
SECONDARY_HORIZONTAL_DATUM: NAD27
XY_ORIGIN: 713190.00000 4007800.00000
SECONDARY_XY_ORIGIN: 713268.41000 4007603.19500
NATION: US
STATE: NV
STATE: AZ
NW_QUAD_CORNER_XY: 713563.93800 4007359.54600
NE_QUAD_CORNER_XY: 719185.06300 4007499.01200
SE_QUAD_CORNERY_XY: 719359.21600 4000564.74500
SW_QUAD_CORNER_XY: 713733.61800 4000425.37700
SECONDARY_NW_QUAD_XY: 713569.03500 4007158.61100
SECONDARY_NE_QUAD_XY: 719190.29500 4007298.08000
SECONDARY_SE_QUAD_XY: 719364.44300 4000363.98700
SECONDARY_SW_QUAD_XY: 713738.71100 4000224.61500
RMSE_XY: 4.40000
IMAGE_SOURCE: BLACK AND WHITE FILM
SOURCE_IMAGE_ID: NAPP 7255 123
SOURCE_IMAGE_DATE: 1994 6 9
SOURCE_DEM_DATE: 1996 2 1
AGENCY: WESTERN MAPPING CENTER (WMC)
PRODUCER: WMC
PRODUCTION_SYSTEM: DV2.6.3 10/9OV2.4 5/95
COMPRESSION: UNDEFINED
STANDARD_VERSION: 1996 12
METADATA_DATE: 1997 7 10
DATA_FILE_SIZE: 49687176
BYTE_COUNT: 6468
