FILENAME: 36114B61
QUADRANGLE_NAME: CALLVILLE BAY
QUADRANT: NW
WEST_LONGITUDE: -114 45 0.00000
EAST_LONGITUDE: -114 41 15.00000
NORTH_LATITUDE: 36 15 0.00000
SOUTH_LATITUDE: 36 11 15.00000
PRODUCTION_DATE: 1996 1 30
RASTER_ORDER: LEFT_RIGHT/TOP_BOTTOM
BAND_ORGANIZATION: SINGLE FILE
BAND_CONTENT: BLACK&WHITE
BAND_CONTENT: UNDEFINED
BAND_CONTENT: UNDEFINED
BITS_PER_PIXEL: 8
SAMPLES_AND_LINES: 6456 7674
HORIZONTAL_DATUM: NAD83
HORIZONTAL_COORDINATE_SYSTEM: UTM
COORDINATE_ZONE: 11
HORIZONTAL_UNITS: METERS
HORIZONTAL_RESOLUTION: 1.00000
SECONDARY_HORIZONTAL_DATUM: NAD27
XY_ORIGIN: 701786.00000 4014459.00000
SECONDARY_XY_ORIGIN: 701864.00000 4014263.00000
NATION: US
STATE: NV
NW_QUAD_CORNER_XY: 702160.94000 4014025.54400
NE_QUAD_CORNER_XY: 707777.43400 4014157.84500
SE_QUAD_CORNERY_XY: 707942.89000 4007223.70900
SW_QUAD_CORNER_XY: 702321.91700 4007091.50000
SECONDARY_NW_QUAD_XY: 702165.77300 4013824.43000
SECONDARY_NE_QUAD_XY: 707782.40100 4013956.73400
SECONDARY_SE_QUAD_XY: 707947.85300 4007022.77100
SECONDARY_SW_QUAD_XY: 702326.74600 4006890.55900
RMSE_XY: 5.20000
IMAGE_SOURCE: BLACK AND WHITE FILM
SOURCE_IMAGE_ID: NAPP 5306 124
SOURCE_IMAGE_DATE: 1992 8 27
SOURCE_DEM_DATE: 1996 1 30
AGENCY: WESTERN MAPPING CENTER (WMC)
PRODUCER: WMC
PRODUCTION_SYSTEM: DV2.6.3 10/9OV2.4 5/95
COMPRESSION: UNDEFINED
STANDARD_VERSION: 1996 12
METADATA_DATE: 1997 7 10
DATA_FILE_SIZE: 49549800
BYTE_COUNT: 6456
