FILENAME: 36114B63
QUADRANGLE_NAME: CALLVILLE BAY
QUADRANT: SE
WEST_LONGITUDE: -114 41 15.00000
EAST_LONGITUDE: -114 37 30.00000
NORTH_LATITUDE: 36 11 15.00000
SOUTH_LATITUDE: 36 7 30.00000
PRODUCTION_DATE: 1996 1 30
RASTER_ORDER: LEFT_RIGHT/TOP_BOTTOM
BAND_ORGANIZATION: SINGLE FILE
BAND_CONTENT: BLACK&WHITE
BAND_CONTENT: UNDEFINED
BAND_CONTENT: UNDEFINED
BITS_PER_PIXEL: 8
SAMPLES_AND_LINES: 6468 7677
HORIZONTAL_DATUM: NAD83
HORIZONTAL_COORDINATE_SYSTEM: UTM
COORDINATE_ZONE: 11
HORIZONTAL_UNITS: METERS
HORIZONTAL_RESOLUTION: 1.00000
SECONDARY_HORIZONTAL_DATUM: NAD27
XY_ORIGIN: 707568.00000 4007661.00000
SECONDARY_XY_ORIGIN: 707646.00000 4007465.00000
NATION: US
STATE: NV
STATE: AZ
NW_QUAD_CORNER_XY: 707942.89000 4007223.70900
NE_QUAD_CORNER_XY: 713563.93800 4007359.54600
SE_QUAD_CORNERY_XY: 713733.61800 4000425.37700
SW_QUAD_CORNER_XY: 708108.09700 4000289.63400
SECONDARY_NW_QUAD_XY: 707947.85300 4007022.77100
SECONDARY_NE_QUAD_XY: 713569.03500 4007158.61100
SECONDARY_SE_QUAD_XY: 713738.71100 4000224.61500
SECONDARY_SW_QUAD_XY: 708113.05600 4000088.86900
RMSE_XY: 1.80000
IMAGE_SOURCE: BLACK AND WHITE FILM
SOURCE_IMAGE_ID: NAPP 5305 244
SOURCE_IMAGE_DATE: 1992 8 26
SOURCE_DEM_DATE: 1996 1 30
AGENCY: WESTERN MAPPING CENTER (WMC)
PRODUCER: WMC
PRODUCTION_SYSTEM: DV2.6.3 10/9OV2.4 5/95
COMPRESSION: UNDEFINED
STANDARD_VERSION: 1996 12
METADATA_DATE: 1997 7 10
DATA_FILE_SIZE: 49661304
BYTE_COUNT: 6468
