FILENAME: 36114B64
QUADRANGLE_NAME: CALLVILLE BAY
QUADRANT: SW
WEST_LONGITUDE: -114 45 0.00000
EAST_LONGITUDE: -114 41 15.00000
NORTH_LATITUDE: 36 11 15.00000
SOUTH_LATITUDE: 36 7 30.00000
PRODUCTION_DATE: 1996 1 30
RASTER_ORDER: LEFT_RIGHT/TOP_BOTTOM
BAND_ORGANIZATION: SINGLE FILE
BAND_CONTENT: BLACK&WHITE
BAND_CONTENT: UNDEFINED
BAND_CONTENT: UNDEFINED
BITS_PER_PIXEL: 8
SAMPLES_AND_LINES: 6460 7674
HORIZONTAL_DATUM: NAD83
HORIZONTAL_COORDINATE_SYSTEM: UTM
COORDINATE_ZONE: 11
HORIZONTAL_UNITS: METERS
HORIZONTAL_RESOLUTION: 1.00000
SECONDARY_HORIZONTAL_DATUM: NAD27
XY_ORIGIN: 701947.00000 4007525.00000
SECONDARY_XY_ORIGIN: 702025.00000 4007329.00000
NATION: US
STATE: NV
NW_QUAD_CORNER_XY: 702321.91700 4007091.50000
NE_QUAD_CORNER_XY: 707942.89000 4007223.70900
SE_QUAD_CORNERY_XY: 708108.09700 4000289.63400
SW_QUAD_CORNER_XY: 702482.65300 4000157.51700
SECONDARY_NW_QUAD_XY: 702326.74600 4006890.55900
SECONDARY_NE_QUAD_XY: 707947.85300 4007022.77100
SECONDARY_SE_QUAD_XY: 708113.05600 4000088.86900
SECONDARY_SW_QUAD_XY: 702487.47800 3999956.74900
RMSE_XY: 5.00000
IMAGE_SOURCE: BLACK AND WHITE FILM
SOURCE_IMAGE_ID: NAPP 5306 126
SOURCE_IMAGE_DATE: 1992 8 27
SOURCE_DEM_DATE: 1996 1 30
AGENCY: WESTERN MAPPING CENTER (WMC)
PRODUCER: WMC
PRODUCTION_SYSTEM: DV2.6.3 10/9OV2.4 5/95
COMPRESSION: UNDEFINED
STANDARD_VERSION: 1996 12
METADATA_DATE: 1997 7 10
DATA_FILE_SIZE: 49580500
BYTE_COUNT: 6460
