FILENAME: 36114C44
QUADRANGLE_NAME: ECHO BAY
QUADRANT: SW
WEST_LONGITUDE: -114 30 0.00000
EAST_LONGITUDE: -114 26 15.00000
NORTH_LATITUDE: 36 18 45.00000
SOUTH_LATITUDE: 36 15 0.00000
PRODUCTION_DATE: 1996 1 29
RASTER_ORDER: LEFT_RIGHT/TOP_BOTTOM
BAND_ORGANIZATION: SINGLE FILE
BAND_CONTENT: BLACK&WHITE
BAND_CONTENT: UNDEFINED
BAND_CONTENT: UNDEFINED
BITS_PER_PIXEL: 8
SAMPLES_AND_LINES: 6472 7689
HORIZONTAL_DATUM: NAD83
HORIZONTAL_COORDINATE_SYSTEM: UTM
COORDINATE_ZONE: 11
HORIZONTAL_UNITS: METERS
HORIZONTAL_RESOLUTION: 1.00000
SECONDARY_HORIZONTAL_DATUM: NAD27
XY_ORIGIN: 724074.00000 4021959.00000
SECONDARY_XY_ORIGIN: 724152.00000 4021763.00000
NATION: US
STATE: NV
NW_QUAD_CORNER_XY: 724448.21100 4021511.01600
NE_QUAD_CORNER_XY: 730060.52900 4021657.94300
SE_QUAD_CORNERY_XY: 730244.17900 4014723.35800
SW_QUAD_CORNER_XY: 724627.37300 4014576.53200
SECONDARY_NW_QUAD_XY: 724453.58500 4021309.74400
SECONDARY_NE_QUAD_XY: 730066.03800 4021456.67400
SECONDARY_SE_QUAD_XY: 730249.68400 4014522.26000
SECONDARY_SW_QUAD_XY: 724632.74400 4014375.43100
RMSE_XY: 1.60000
IMAGE_SOURCE: BLACK AND WHITE FILM
SOURCE_IMAGE_ID: NAPP 7257 049
SOURCE_IMAGE_DATE: 1994 6 10
SOURCE_DEM_DATE: 1996 1 29
AGENCY: WESTERN MAPPING CENTER (WMC)
PRODUCER: WMC
PRODUCTION_SYSTEM: DV2.6.3 10/9OV2.4 5/95
COMPRESSION: UNDEFINED
STANDARD_VERSION: 1996 12
METADATA_DATE: 1997 7 10
DATA_FILE_SIZE: 49769680
BYTE_COUNT: 6472
