FILENAME: 36114B42
QUADRANGLE_NAME: MIDDLE POINT
QUADRANT: NE
WEST_LONGITUDE: -114 26 15.00000
EAST_LONGITUDE: -114 22 30.00000
NORTH_LATITUDE: 36 15 0.00000
SOUTH_LATITUDE: 36 11 15.00000
PRODUCTION_DATE: 1996 2 1
RASTER_ORDER: LEFT_RIGHT/TOP_BOTTOM
BAND_ORGANIZATION: SINGLE FILE
BAND_CONTENT: BLACK&WHITE
BAND_CONTENT: UNDEFINED
BAND_CONTENT: UNDEFINED
BITS_PER_PIXEL: 8
SAMPLES_AND_LINES: 6480 7692
HORIZONTAL_DATUM: NAD83
HORIZONTAL_COORDINATE_SYSTEM: UTM
COORDINATE_ZONE: 11
HORIZONTAL_UNITS: METERS
HORIZONTAL_RESOLUTION: 1.00000
SECONDARY_HORIZONTAL_DATUM: NAD27
XY_ORIGIN: 729870.00000 4015175.00000
SECONDARY_XY_ORIGIN: 729948.00000 4014979.00000
NATION: US
STATE: NV
NW_QUAD_CORNER_XY: 730244.17900 4014723.35800
NE_QUAD_CORNER_XY: 735861.06700 4014873.81600
SE_QUAD_CORNERY_XY: 736048.92500 4007939.18500
SW_QUAD_CORNER_XY: 730427.55500 4007788.83100
SECONDARY_NW_QUAD_XY: 730249.68400 4014522.26000
SECONDARY_NE_QUAD_XY: 735866.70700 4014672.72200
SECONDARY_SE_QUAD_XY: 736054.55900 4007738.26400
SECONDARY_SW_QUAD_XY: 730433.05500 4007587.90600
RMSE_XY: 2.30000
IMAGE_SOURCE: BLACK AND WHITE FILM
SOURCE_IMAGE_ID: PAPP 5255 383
SOURCE_IMAGE_DATE: 1994 6 9
SOURCE_DEM_DATE: 1996 2 1
AGENCY: WESTERN MAPPING CENTER (WMC)
PRODUCER: WMC
PRODUCTION_SYSTEM: DV2.6.3 10/9OV2.4 5/95
COMPRESSION: UNDEFINED
STANDARD_VERSION: 1996 12
METADATA_DATE: 1997 5 23
DATA_FILE_SIZE: 49850640
BYTE_COUNT: 6480
