FILENAME: 36114B41
QUADRANGLE_NAME: MIDDLE POINT
QUADRANT: NW
WEST_LONGITUDE: -114 30 0.00000
EAST_LONGITUDE: -114 26 15.00000
NORTH_LATITUDE: 36 15 0.00000
SOUTH_LATITUDE: 36 11 15.00000
PRODUCTION_DATE: 1996 2 1
RASTER_ORDER: LEFT_RIGHT/TOP_BOTTOM
BAND_ORGANIZATION: SINGLE FILE
BAND_CONTENT: BLACK&WHITE
BAND_CONTENT: UNDEFINED
BAND_CONTENT: UNDEFINED
BITS_PER_PIXEL: 8
SAMPLES_AND_LINES: 6468 7688
HORIZONTAL_DATUM: NAD83
HORIZONTAL_COORDINATE_SYSTEM: UTM
COORDINATE_ZONE: 11
HORIZONTAL_UNITS: METERS
HORIZONTAL_RESOLUTION: 1.00000
SECONDARY_HORIZONTAL_DATUM: NAD27
XY_ORIGIN: 724260.00000 4015024.00000
SECONDARY_XY_ORIGIN: 724338.00000 4014828.00000
NATION: US
STATE: NV
NW_QUAD_CORNER_XY: 724627.37300 4014576.53200
NE_QUAD_CORNER_XY: 730244.17900 4014723.35800
SE_QUAD_CORNERY_XY: 730427.55500 4007788.83100
SW_QUAD_CORNER_XY: 724806.26800 4007642.10700
SECONDARY_NW_QUAD_XY: 724632.74400 4014375.43100
SECONDARY_NE_QUAD_XY: 730249.68400 4014522.26000
SECONDARY_SE_QUAD_XY: 730433.05500 4007587.90600
SECONDARY_SW_QUAD_XY: 724811.63400 4007441.17800
RMSE_XY: 2.30000
IMAGE_SOURCE: BLACK AND WHITE FILM
SOURCE_IMAGE_ID: PAPP 7257 151
SOURCE_IMAGE_DATE: 1994 6 10
SOURCE_DEM_DATE: 1996 2 1
AGENCY: WESTERN MAPPING CENTER (WMC)
PRODUCER: WMC
PRODUCTION_SYSTEM: DV2.6.3 10/9OV2.4 5/95
COMPRESSION: UNDEFINED
STANDARD_VERSION: 1996 12
METADATA_DATE: 1997 5 23
DATA_FILE_SIZE: 49732452
BYTE_COUNT: 6468
