FILENAME: 36114C63
QUADRANGLE_NAME: MUDDY PEAK
QUADRANT: SE
WEST_LONGITUDE: -114 41 15.00000
EAST_LONGITUDE: -114 37 30.00000
NORTH_LATITUDE: 36 18 45.00000
SOUTH_LATITUDE: 36 15 0.00000
PRODUCTION_DATE: 1996 1 29
RASTER_ORDER: LEFT_RIGHT/TOP_BOTTOM
BAND_ORGANIZATION: SINGLE FILE
BAND_CONTENT: BLACK&WHITE
BAND_CONTENT: UNDEFINED
BAND_CONTENT: UNDEFINED
BITS_PER_PIXEL: 8
SAMPLES_AND_LINES: 6456 7677
HORIZONTAL_DATUM: NAD83
HORIZONTAL_COORDINATE_SYSTEM: UTM
COORDINATE_ZONE: 11
HORIZONTAL_UNITS: METERS
HORIZONTAL_RESOLUTION: 1.00000
SECONDARY_HORIZONTAL_DATUM: NAD27
XY_ORIGIN: 707237.00000 4021529.00000
SECONDARY_XY_ORIGIN: 707315.00000 4021333.00000
NATION: US
STATE: NV
NW_QUAD_CORNER_XY: 707611.73100 4021092.04100
NE_QUAD_CORNER_XY: 713223.81400 4021228.06600
SE_QUAD_CORNERY_XY: 713394.00300 4014293.77600
SW_QUAD_CORNER_XY: 707777.43400 4014157.84500
SECONDARY_NW_QUAD_XY: 707616.70200 4020890.75900
SECONDARY_NE_QUAD_XY: 713228.92000 4021026.78700
SECONDARY_SE_QUAD_XY: 713399.10500 4014092.66900
SECONDARY_SW_QUAD_XY: 707782.40100 4013956.73400
RMSE_XY: 4.40000
IMAGE_SOURCE: BLACK AND WHITE FILM
SOURCE_IMAGE_ID: NAPP 2688 032
SOURCE_IMAGE_DATE: 1990 5 4
SOURCE_DEM_DATE: 1996 1 29
AGENCY: WESTERN MAPPING CENTER (WMC)
PRODUCER: WMC
PRODUCTION_SYSTEM: DV2.6.3 10/9OV2.4 5/95
COMPRESSION: UNDEFINED
STANDARD_VERSION: 1996 12
METADATA_DATE: 1997 7 10
DATA_FILE_SIZE: 49569168
BYTE_COUNT: 6456
