FILENAME: 36115B33
QUADRANGLE_NAME: BLUE DIAMOND NE
QUADRANT: SE
WEST_LONGITUDE: -115 18 45.00000
EAST_LONGITUDE: -115 15 0.00000
NORTH_LATITUDE: 36 11 15.00000
SOUTH_LATITUDE: 36 7 30.00000
PRODUCTION_DATE: 1996 7 26
RASTER_ORDER: LEFT_RIGHT/TOP_BOTTOM
BAND_ORGANIZATION: SINGLE FILE
BAND_CONTENT: BLACK&WHITE
BAND_CONTENT: UNDEFINED
BAND_CONTENT: UNDEFINED
BITS_PER_PIXEL: 8
SAMPLES_AND_LINES: 6424 7640
HORIZONTAL_DATUM: NAD83
HORIZONTAL_COORDINATE_SYSTEM: UTM
COORDINATE_ZONE: 11
HORIZONTAL_UNITS: METERS
HORIZONTAL_RESOLUTION: 1.00000
SECONDARY_HORIZONTAL_DATUM: NAD27
XY_ORIGIN: 651360.00000 4006465.00000
SECONDARY_XY_ORIGIN: 651438.98400 4006268.93300
NATION: US
STATE: NV
NW_QUAD_CORNER_XY: 651736.22700 4006064.80700
NE_QUAD_CORNER_XY: 657356.61200 4006164.38300
SE_QUAD_CORNERY_XY: 657481.59100 3999231.04700
SW_QUAD_CORNER_XY: 651856.73900 3999131.54000
SECONDARY_NW_QUAD_XY: 651739.84800 4005863.84100
SECONDARY_NE_QUAD_XY: 657360.36700 4005963.41900
SECONDARY_SE_QUAD_XY: 657485.34300 3999030.25700
SECONDARY_SW_QUAD_XY: 651860.35700 3998930.74800
RMSE_XY: 2.00000
IMAGE_SOURCE: BLACK AND WHITE FILM
SOURCE_IMAGE_ID: NAPP 7257 131
SOURCE_IMAGE_DATE: 1994 6 10
SOURCE_DEM_DATE: 1992 9 9
AGENCY: WESTERN MAPPING CENTER (WMC)
PRODUCER: ROCKY MOUNTAIN MAPPING CENTER (RMMC)
PRODUCTION_SYSTEM: DV2.6.3 10/9OV2.4 5/95
COMPRESSION: UNDEFINED
STANDARD_VERSION: 1996 12
METADATA_DATE: 1998 2 3
DATA_FILE_SIZE: 49085784
BYTE_COUNT: 6424
