FILENAME: 36115A32
QUADRANGLE_NAME: BLUE DIAMOND SE
QUADRANT: NE
WEST_LONGITUDE: -115 18 45.00000
EAST_LONGITUDE: -115 15 0.00000
NORTH_LATITUDE: 36 7 30.00000
SOUTH_LATITUDE: 36 3 45.00000
PRODUCTION_DATE: 1998 5 18
RASTER_ORDER: LEFT_RIGHT/TOP_BOTTOM
BAND_ORGANIZATION: SINGLE FILE
BAND_CONTENT: BLACK&WHITE
BAND_CONTENT: UNDEFINED
BAND_CONTENT: UNDEFINED
BITS_PER_PIXEL: 8
SAMPLES_AND_LINES: 6424 7640
HORIZONTAL_DATUM: NAD83
HORIZONTAL_COORDINATE_SYSTEM: UTM
COORDINATE_ZONE: 11
HORIZONTAL_UNITS: METERS
HORIZONTAL_RESOLUTION: 1.00000
SECONDARY_HORIZONTAL_DATUM: NAD27
XY_ORIGIN: 651481.00000 3999532.00000
SECONDARY_XY_ORIGIN: 651559.85400 3999335.92400
NATION: US
STATE: NV
NW_QUAD_CORNER_XY: 651856.73900 3999131.54000
NE_QUAD_CORNER_XY: 657481.59100 3999231.04700
SE_QUAD_CORNERY_XY: 657606.38200 3992297.77700
SW_QUAD_CORNER_XY: 651977.07000 3992198.34000
SECONDARY_NW_QUAD_XY: 651860.35700 3998930.74800
SECONDARY_NE_QUAD_XY: 657485.34300 3999030.25700
SECONDARY_SE_QUAD_XY: 657610.13100 3992097.16100
SECONDARY_SW_QUAD_XY: 651980.68400 3991997.72200
RMSE_XY: 1.60000
IMAGE_SOURCE: BLACK AND WHITE FILM
SOURCE_IMAGE_ID: NAPP 7257 133
SOURCE_IMAGE_DATE: 1994 6 10
SOURCE_DEM_DATE: 1993 1 14
AGENCY: WESTERN MAPPING CENTER (WMC)
PRODUCER: ROCKY MOUNTAIN MAPPING CENTER (RMMC)
PRODUCTION_SYSTEM: DV2.6.3 10/9OV2.4 5/95
COMPRESSION: UNDEFINED
STANDARD_VERSION: 1996 12
METADATA_DATE: 1998 5 18
DATA_FILE_SIZE: 49085784
BYTE_COUNT: 6424
