FILENAME: 36115A34
QUADRANGLE_NAME: BLUE DIAMOND SE
QUADRANT: SW
WEST_LONGITUDE: -115 22 30.00000
EAST_LONGITUDE: -115 18 45.00000
NORTH_LATITUDE: 36 3 45.00000
SOUTH_LATITUDE: 36 0 0.00000
PRODUCTION_DATE: 1996 8 14
RASTER_ORDER: LEFT_RIGHT/TOP_BOTTOM
BAND_ORGANIZATION: SINGLE FILE
BAND_CONTENT: BLACK&WHITE
BAND_CONTENT: UNDEFINED
BAND_CONTENT: UNDEFINED
BITS_PER_PIXEL: 8
SAMPLES_AND_LINES: 6424 7636
HORIZONTAL_DATUM: NAD83
HORIZONTAL_COORDINATE_SYSTEM: UTM
COORDINATE_ZONE: 11
HORIZONTAL_UNITS: METERS
HORIZONTAL_RESOLUTION: 1.00000
SECONDARY_HORIZONTAL_DATUM: NAD27
XY_ORIGIN: 645972.00000 3992499.00000
SECONDARY_XY_ORIGIN: 646050.77000 3992302.91700
NATION: US
STATE: NV
NW_QUAD_CORNER_XY: 646347.81300 3992102.52200
NE_QUAD_CORNER_XY: 651977.07000 3992198.34000
SE_QUAD_CORNERY_XY: 652097.21900 3985265.20600
SW_QUAD_CORNER_XY: 646463.50900 3985169.45600
SECONDARY_NW_QUAD_XY: 646351.29400 3991901.90200
SECONDARY_NE_QUAD_XY: 651980.68400 3991997.72200
SECONDARY_SE_QUAD_XY: 652100.83100 3985064.76300
SECONDARY_SW_QUAD_XY: 646466.98700 3984969.01100
RMSE_XY: 1.60000
IMAGE_SOURCE: BLACK AND WHITE FILM
SOURCE_IMAGE_ID: NAPP 7257 162
SOURCE_IMAGE_DATE: 1994 6 10
SOURCE_DEM_DATE: 1993 1 14
AGENCY: WESTERN MAPPING CENTER (WMC)
PRODUCER: ROCKY MOUNTAIN MAPPING CENTER (RMMC)
PRODUCTION_SYSTEM: DV2.6.3 10/9OV2.4 5/95
COMPRESSION: UNDEFINED
STANDARD_VERSION: 1996 12
METADATA_DATE: 1998 2 3
DATA_FILE_SIZE: 49060088
BYTE_COUNT: 6424
