FILENAME: 36115B21
QUADRANGLE_NAME: LAS VEGAS NW
QUADRANT: NW
WEST_LONGITUDE: -115 15 0.00000
EAST_LONGITUDE: -115 11 15.00000
NORTH_LATITUDE: 36 15 0.00000
SOUTH_LATITUDE: 36 11 15.00000
PRODUCTION_DATE: 1996 8 9
RASTER_ORDER: LEFT_RIGHT/TOP_BOTTOM
BAND_ORGANIZATION: SINGLE FILE
BAND_CONTENT: BLACK&WHITE
BAND_CONTENT: UNDEFINED
BAND_CONTENT: UNDEFINED
BITS_PER_PIXEL: 8
SAMPLES_AND_LINES: 6424 7645
HORIZONTAL_DATUM: NAD83
HORIZONTAL_COORDINATE_SYSTEM: UTM
COORDINATE_ZONE: 11
HORIZONTAL_UNITS: METERS
HORIZONTAL_RESOLUTION: 1.00000
SECONDARY_HORIZONTAL_DATUM: NAD27
XY_ORIGIN: 656855.00000 4013502.00000
SECONDARY_XY_ORIGIN: 656934.10400 4013305.94800
NATION: US
STATE: NV
NW_QUAD_CORNER_XY: 657231.44500 4013097.78500
NE_QUAD_CORNER_XY: 662847.41200 4013201.05700
SE_QUAD_CORNERY_XY: 662977.05300 4006267.58400
SW_QUAD_CORNER_XY: 657356.61200 4006164.38300
SECONDARY_NW_QUAD_XY: 657235.20300 4012896.64800
SECONDARY_NE_QUAD_XY: 662851.30400 4012999.92300
SECONDARY_SE_QUAD_XY: 662980.94300 4006066.62200
SECONDARY_SW_QUAD_XY: 657360.36700 4005963.41900
RMSE_XY: 1.60000
IMAGE_SOURCE: BLACK AND WHITE FILM
SOURCE_IMAGE_ID: NAPP 7257 109
SOURCE_IMAGE_DATE: 1994 6 10
SOURCE_DEM_DATE: 1992 9 9
AGENCY: WESTERN MAPPING CENTER (WMC)
PRODUCER: ROCKY MOUNTAIN MAPPING CENTER (RMMC)
PRODUCTION_SYSTEM: DV2.6.3 10/9OV2.4 5/95
COMPRESSION: UNDEFINED
STANDARD_VERSION: 1996 12
METADATA_DATE: 1998 2 3
DATA_FILE_SIZE: 49117904
BYTE_COUNT: 6424
