FILENAME: 36115B24
QUADRANGLE_NAME: LAS VEGAS NW
QUADRANT: SW
WEST_LONGITUDE: -115 15 0.00000
EAST_LONGITUDE: -115 11 15.00000
NORTH_LATITUDE: 36 11 15.00000
SOUTH_LATITUDE: 36 7 30.00000
PRODUCTION_DATE: 1996 8 9
RASTER_ORDER: LEFT_RIGHT/TOP_BOTTOM
BAND_ORGANIZATION: SINGLE FILE
BAND_CONTENT: BLACK&WHITE
BAND_CONTENT: UNDEFINED
BAND_CONTENT: UNDEFINED
BITS_PER_PIXEL: 8
SAMPLES_AND_LINES: 6428 7645
HORIZONTAL_DATUM: NAD83
HORIZONTAL_COORDINATE_SYSTEM: UTM
COORDINATE_ZONE: 11
HORIZONTAL_UNITS: METERS
HORIZONTAL_RESOLUTION: 1.00000
SECONDARY_HORIZONTAL_DATUM: NAD27
XY_ORIGIN: 656980.00000 4006569.00000
SECONDARY_XY_ORIGIN: 657058.00000 4006373.00000
NATION: US
STATE: NV
NW_QUAD_CORNER_XY: 657356.61200 4006164.38300
NE_QUAD_CORNER_XY: 662977.05300 4006267.58400
SE_QUAD_CORNERY_XY: 663106.50000 3999334.17600
SW_QUAD_CORNER_XY: 657481.59100 3999231.04700
SECONDARY_NW_QUAD_XY: 657360.36700 4005963.41900
SECONDARY_NE_QUAD_XY: 662980.94300 4006066.62200
SECONDARY_SE_QUAD_XY: 663110.38600 3999133.38800
SECONDARY_SW_QUAD_XY: 657485.34300 3999030.25700
RMSE_XY: 2.00000
IMAGE_SOURCE: BLACK AND WHITE FILM
SOURCE_IMAGE_ID: NAPP 7257 107
SOURCE_IMAGE_DATE: 1994 6 10
SOURCE_DEM_DATE: 1992 9 9
AGENCY: WESTERN MAPPING CENTER (WMC)
PRODUCER: ROCKY MOUNTAIN MAPPING CENTER (RMMC)
PRODUCTION_SYSTEM: DV2.6.3 10/9OV2.4 5/95
COMPRESSION: UNDEFINED
STANDARD_VERSION: 1996 12
METADATA_DATE: 1998 2 3
DATA_FILE_SIZE: 49148488
BYTE_COUNT: 6428
