FILENAME: 36115A12
QUADRANGLE_NAME: LAS VEGAS SE
QUADRANT: NE
WEST_LONGITUDE: -115 3 45.00000
EAST_LONGITUDE: -115 0 0.00000
NORTH_LATITUDE: 36 7 30.00000
SOUTH_LATITUDE: 36 3 45.00000
PRODUCTION_DATE: 1996 2 1
RASTER_ORDER: LEFT_RIGHT/TOP_BOTTOM
BAND_ORGANIZATION: SINGLE FILE
BAND_CONTENT: BLACK&WHITE
BAND_CONTENT: UNDEFINED
BAND_CONTENT: UNDEFINED
BITS_PER_PIXEL: 8
SAMPLES_AND_LINES: 6444 7654
HORIZONTAL_DATUM: NAD83
HORIZONTAL_COORDINATE_SYSTEM: UTM
COORDINATE_ZONE: 11
HORIZONTAL_UNITS: METERS
HORIZONTAL_RESOLUTION: 1.00000
SECONDARY_HORIZONTAL_DATUM: NAD27
XY_ORIGIN: 673981.00000 3999966.00000
SECONDARY_XY_ORIGIN: 674059.87600 3999769.69500
NATION: US
STATE: NV
NW_QUAD_CORNER_XY: 674356.50100 3999551.29900
NE_QUAD_CORNER_XY: 679981.59500 3999665.29600
SE_QUAD_CORNERY_XY: 680124.23400 3992731.72000
SW_QUAD_CORNER_XY: 674494.67700 3992617.80400
SECONDARY_NW_QUAD_XY: 674360.65500 3999350.51700
SECONDARY_NE_QUAD_XY: 679985.88400 3999464.51600
SECONDARY_SE_QUAD_XY: 680128.51900 3992531.11500
SECONDARY_SW_QUAD_XY: 674498.82800 3992417.19600
RMSE_XY: 1.70000
IMAGE_SOURCE: BLACK AND WHITE FILM
SOURCE_IMAGE_ID: NAPP 7254 078
SOURCE_IMAGE_DATE: 1994 6 3
SOURCE_DEM_DATE: 1996 2 1
AGENCY: WESTERN MAPPING CENTER (WMC)
PRODUCER: WMC
PRODUCTION_SYSTEM: DV2.6.3 10/9OV2.4 5/95
COMPRESSION: UNDEFINED
STANDARD_VERSION: 1996 12
METADATA_DATE: 1997 7 10
DATA_FILE_SIZE: 49328820
BYTE_COUNT: 6444
