FILENAME: 36115A13
QUADRANGLE_NAME: LAS VEGAS SE
QUADRANT: SE
WEST_LONGITUDE: -115 3 45.00000
EAST_LONGITUDE: -115 0 0.00000
NORTH_LATITUDE: 36 3 45.00000
SOUTH_LATITUDE: 36 0 0.00000
PRODUCTION_DATE: 1996 2 2
RASTER_ORDER: LEFT_RIGHT/TOP_BOTTOM
BAND_ORGANIZATION: SINGLE FILE
BAND_CONTENT: BLACK&WHITE
BAND_CONTENT: UNDEFINED
BAND_CONTENT: UNDEFINED
BITS_PER_PIXEL: 8
SAMPLES_AND_LINES: 6448 7655
HORIZONTAL_DATUM: NAD83
HORIZONTAL_COORDINATE_SYSTEM: UTM
COORDINATE_ZONE: 11
HORIZONTAL_UNITS: METERS
HORIZONTAL_RESOLUTION: 1.00000
SECONDARY_HORIZONTAL_DATUM: NAD27
XY_ORIGIN: 674119.00000 3993033.00000
SECONDARY_XY_ORIGIN: 674197.00000 3992837.00000
NATION: US
STATE: NV
NW_QUAD_CORNER_XY: 674494.67700 3992617.80400
NE_QUAD_CORNER_XY: 680124.23400 3992731.72000
SE_QUAD_CORNERY_XY: 680266.65800 3985798.20800
SW_QUAD_CORNER_XY: 674632.64500 3985684.37300
SECONDARY_NW_QUAD_XY: 674498.82800 3992417.19600
SECONDARY_NE_QUAD_XY: 680128.51900 3992531.11500
SECONDARY_SE_QUAD_XY: 680270.93900 3985597.77800
SECONDARY_SW_QUAD_XY: 674636.79200 3985483.94000
RMSE_XY: 1.30000
IMAGE_SOURCE: BLACK AND WHITE FILM
SOURCE_IMAGE_ID: NAPP 7254 080
SOURCE_IMAGE_DATE: 1994 6 3
SOURCE_DEM_DATE: 1996 2 2
AGENCY: WESTERN MAPPING CENTER (WMC)
PRODUCER: WMC
PRODUCTION_SYSTEM: DV2.6.3 10/9OV2.4 5/95
COMPRESSION: UNDEFINED
STANDARD_VERSION: 1996 12
METADATA_DATE: 1997 7 10
DATA_FILE_SIZE: 49365888
BYTE_COUNT: 6448
