FILENAME: 36115A23
QUADRANGLE_NAME: LAS VEGAS SW
QUADRANT: SE
WEST_LONGITUDE: -115 11 15.00000
EAST_LONGITUDE: -115 7 30.00000
NORTH_LATITUDE: 36 3 45.00000
SOUTH_LATITUDE: 36 0 0.00000
PRODUCTION_DATE: 1998 5 18
RASTER_ORDER: LEFT_RIGHT/TOP_BOTTOM
BAND_ORGANIZATION: SINGLE FILE
BAND_CONTENT: BLACK&WHITE
BAND_CONTENT: UNDEFINED
BAND_CONTENT: UNDEFINED
BITS_PER_PIXEL: 8
SAMPLES_AND_LINES: 6440 7648
HORIZONTAL_DATUM: NAD83
HORIZONTAL_COORDINATE_SYSTEM: UTM
COORDINATE_ZONE: 11
HORIZONTAL_UNITS: METERS
HORIZONTAL_RESOLUTION: 1.00000
SECONDARY_HORIZONTAL_DATUM: NAD27
XY_ORIGIN: 662860.00000 3992809.00000
SECONDARY_XY_ORIGIN: 662938.00000 3992613.00000
NATION: US
STATE: NV
NW_QUAD_CORNER_XY: 663235.75300 3992400.83300
NE_QUAD_CORNER_XY: 668865.18400 3992507.50800
SE_QUAD_CORNERY_XY: 668998.69700 3985574.15500
SW_QUAD_CORNER_XY: 663364.81100 3985467.55500
SECONDARY_NW_QUAD_XY: 663239.63600 3992200.21900
SECONDARY_NE_QUAD_XY: 668869.20100 3992306.89800
SECONDARY_SE_QUAD_XY: 669002.71000 3985373.72000
SECONDARY_SW_QUAD_XY: 663368.69000 3985267.11700
RMSE_XY: 1.60000
IMAGE_SOURCE: BLACK AND WHITE FILM
SOURCE_IMAGE_ID: NAPP 7257 56
SOURCE_IMAGE_DATE: 1994 6 10
SOURCE_DEM_DATE: 1993 1 14
AGENCY: WESTERN MAPPING CENTER (WMC)
PRODUCER: ROCKY MOUNTAIN MAPPING CENTER (RMMC)
PRODUCTION_SYSTEM: DV2.6.3 10/9OV2.4 5/95
COMPRESSION: UNDEFINED
STANDARD_VERSION: 1996 12
METADATA_DATE: 1998 5 18
DATA_FILE_SIZE: 49259560
BYTE_COUNT: 6440
